BEGIN:VCALENDAR
VERSION:2.0
PRODID:icalendar-ruby
CALSCALE:GREGORIAN
METHOD:PUBLISH
BEGIN:VEVENT
DTSTAMP:20260422T085019Z
UID:9-708767@newhopesbc.net
DTSTART:20260920T150000Z
DTEND:20260920T160000Z
CLASS:PUBLIC
CREATED:20260421T210115
DESCRIPTION:
LAST-MODIFIED:20260421T210115
LOCATION:
SUMMARY:Morning Worship
URL;VALUE=URI:https://www.newhopesbc.net/events/morning-worship--9/2026-09-
 20
ATTACH;FILENAME=DSC_2339.JPG;FMTTYPE=image/jpeg:https://dq5pwpg1q8ru0.cloud
 front.net/2024/01/26/16/29/56/2b8ac4da-8938-4cf2-9cd5-ad58c6666ae6/DSC_233
 9.JPG
END:VEVENT
END:VCALENDAR
