BEGIN:VCALENDAR
VERSION:2.0
PRODID:icalendar-ruby
CALSCALE:GREGORIAN
METHOD:PUBLISH
BEGIN:VEVENT
DTSTAMP:20260419T194548Z
UID:22-700218@newhopesbc.net
DTSTART:20261011T220000Z
DTEND:20261011T230000Z
CLASS:PUBLIC
CREATED:20260419T122341
DESCRIPTION:Join us for Eening Worship\, each Sunday night at 6pm.  
LAST-MODIFIED:20260419T122341
LOCATION:
SUMMARY:Evening Worship
URL;VALUE=URI:https://www.newhopesbc.net/events/evening-worship/2026-10-11
ATTACH;FILENAME=8CA50BA0-D05B-467D-928C-D9F0AE442E81_1_105_c.jpeg;FMTTYPE=i
 mage/jpeg:https://dq5pwpg1q8ru0.cloudfront.net/2024/03/06/15/44/44/81a4a53
 f-9ae2-41d8-8c0d-9b1ce0e5b490/8CA50BA0-D05B-467D-928C-D9F0AE442E81_1_105_c
 .jpeg
END:VEVENT
END:VCALENDAR
